BEGIN:VCALENDAR
VERSION:2.0
PRODID:-//Colegio Montessori Cartagena - ECPv6.2.4//NONSGML v1.0//EN
CALSCALE:GREGORIAN
METHOD:PUBLISH
X-ORIGINAL-URL:https://www.montessoricartagena.edu.co
X-WR-CALDESC:Eventos para Colegio Montessori Cartagena
REFRESH-INTERVAL;VALUE=DURATION:PT1H
X-Robots-Tag:noindex
X-PUBLISHED-TTL:PT1H
BEGIN:VTIMEZONE
TZID:America/Bogota
BEGIN:STANDARD
TZOFFSETFROM:-0500
TZOFFSETTO:-0500
TZNAME:-05
DTSTART:20220101T000000
END:STANDARD
END:VTIMEZONE
BEGIN:VEVENT
DTSTART;VALUE=DATE:20220803
DTEND;VALUE=DATE:20220804
DTSTAMP:20260423T235045
CREATED:20220728T164025Z
LAST-MODIFIED:20220728T164025Z
UID:3704-1659484800-1659571199@www.montessoricartagena.edu.co
SUMMARY:Conferencia: crianza efectiva: afectividad\, limites y estrategias.
DESCRIPTION:Conferencia: Crianza efectiva: afectividad\, limites y estrategias.\nDirigido a todos los niveles (Preescolar-Primaria-Bachillerato) \n \n 
URL:https://www.montessoricartagena.edu.co/evento/conferencia-crianza-efectiva-afectividad-limites-y-estrategias/
END:VEVENT
END:VCALENDAR