BEGIN:VCALENDAR
VERSION:2.0
PRODID:-//Colegio Montessori Cartagena - ECPv6.2.4//NONSGML v1.0//EN
CALSCALE:GREGORIAN
METHOD:PUBLISH
X-ORIGINAL-URL:https://www.montessoricartagena.edu.co
X-WR-CALDESC:Eventos para Colegio Montessori Cartagena
REFRESH-INTERVAL;VALUE=DURATION:PT1H
X-Robots-Tag:noindex
X-PUBLISHED-TTL:PT1H
BEGIN:VTIMEZONE
TZID:America/Bogota
BEGIN:STANDARD
TZOFFSETFROM:-0500
TZOFFSETTO:-0500
TZNAME:-05
DTSTART:20220101T000000
END:STANDARD
END:VTIMEZONE
BEGIN:VEVENT
DTSTART;VALUE=DATE:20221122
DTEND;VALUE=DATE:20221124
DTSTAMP:20260423T162622
CREATED:20221101T152439Z
LAST-MODIFIED:20221101T152440Z
UID:3965-1669075200-1669247999@www.montessoricartagena.edu.co
SUMMARY:Recepción actividades de recuperación extraordinarias 3er. Periodo
DESCRIPTION:22 y 23 de noviembre
URL:https://www.montessoricartagena.edu.co/evento/recepcion-actividades-de-recuperacion-extraordinarias-3er-periodo/
END:VEVENT
END:VCALENDAR