BEGIN:VCALENDAR
VERSION:2.0
PRODID:-//Colegio Montessori Cartagena - ECPv6.2.4//NONSGML v1.0//EN
CALSCALE:GREGORIAN
METHOD:PUBLISH
X-WR-CALNAME:Colegio Montessori Cartagena
X-ORIGINAL-URL:https://www.montessoricartagena.edu.co
X-WR-CALDESC:Eventos para Colegio Montessori Cartagena
REFRESH-INTERVAL;VALUE=DURATION:PT1H
X-Robots-Tag:noindex
X-PUBLISHED-TTL:PT1H
BEGIN:VTIMEZONE
TZID:America/Bogota
BEGIN:STANDARD
TZOFFSETFROM:-0500
TZOFFSETTO:-0500
TZNAME:-05
DTSTART:20220101T000000
END:STANDARD
END:VTIMEZONE
BEGIN:VEVENT
DTSTART;VALUE=DATE:20221128
DTEND;VALUE=DATE:20221129
DTSTAMP:20260423T110520
CREATED:20221101T152555Z
LAST-MODIFIED:20221101T152555Z
UID:3967-1669593600-1669679999@www.montessoricartagena.edu.co
SUMMARY:Comisiones de Evaluación 3er. Periodo
DESCRIPTION:26 y 28 de noviembre
URL:https://www.montessoricartagena.edu.co/evento/comisiones-de-evaluacion-3er-periodo/
END:VEVENT
END:VCALENDAR