BEGIN:VCALENDAR
VERSION:2.0
PRODID:-//Colegio Montessori Cartagena - ECPv6.2.4//NONSGML v1.0//EN
CALSCALE:GREGORIAN
METHOD:PUBLISH
X-ORIGINAL-URL:https://www.montessoricartagena.edu.co
X-WR-CALDESC:Eventos para Colegio Montessori Cartagena
REFRESH-INTERVAL;VALUE=DURATION:PT1H
X-Robots-Tag:noindex
X-PUBLISHED-TTL:PT1H
BEGIN:VTIMEZONE
TZID:America/Bogota
BEGIN:STANDARD
TZOFFSETFROM:-0500
TZOFFSETTO:-0500
TZNAME:-05
DTSTART:20230101T000000
END:STANDARD
END:VTIMEZONE
BEGIN:VEVENT
DTSTART;VALUE=DATE:20230602
DTEND;VALUE=DATE:20230603
DTSTAMP:20260422T220902
CREATED:20230525T144517Z
LAST-MODIFIED:20230525T144727Z
UID:4632-1685664000-1685750399@www.montessoricartagena.edu.co
SUMMARY:¡Feliz Cumpleaños! CMC
DESCRIPTION:
URL:https://www.montessoricartagena.edu.co/evento/feliz-cumpleanos-cmc/
END:VEVENT
END:VCALENDAR