BEGIN:VCALENDAR
VERSION:2.0
PRODID:-//Colegio Montessori Cartagena - ECPv6.2.4//NONSGML v1.0//EN
CALSCALE:GREGORIAN
METHOD:PUBLISH
X-ORIGINAL-URL:https://www.montessoricartagena.edu.co
X-WR-CALDESC:Eventos para Colegio Montessori Cartagena
REFRESH-INTERVAL;VALUE=DURATION:PT1H
X-Robots-Tag:noindex
X-PUBLISHED-TTL:PT1H
BEGIN:VTIMEZONE
TZID:America/Bogota
BEGIN:STANDARD
TZOFFSETFROM:-0500
TZOFFSETTO:-0500
TZNAME:-05
DTSTART:20230101T000000
END:STANDARD
END:VTIMEZONE
BEGIN:VEVENT
DTSTART;VALUE=DATE:20230726
DTEND;VALUE=DATE:20230803
DTSTAMP:20260422T182001
CREATED:20220210T142613Z
LAST-MODIFIED:20230721T170915Z
UID:3367-1690329600-1691020799@www.montessoricartagena.edu.co
SUMMARY:Coffee Time
DESCRIPTION:  \n  \n \n  \n 
URL:https://www.montessoricartagena.edu.co/evento/coffee-time-preescolar/
END:VEVENT
END:VCALENDAR