BEGIN:VCALENDAR
VERSION:2.0
PRODID:-//Colegio Montessori Cartagena - ECPv6.2.4//NONSGML v1.0//EN
CALSCALE:GREGORIAN
METHOD:PUBLISH
X-ORIGINAL-URL:https://www.montessoricartagena.edu.co
X-WR-CALDESC:Eventos para Colegio Montessori Cartagena
REFRESH-INTERVAL;VALUE=DURATION:PT1H
X-Robots-Tag:noindex
X-PUBLISHED-TTL:PT1H
BEGIN:VTIMEZONE
TZID:America/Bogota
BEGIN:STANDARD
TZOFFSETFROM:-0500
TZOFFSETTO:-0500
TZNAME:-05
DTSTART:20230101T000000
END:STANDARD
END:VTIMEZONE
BEGIN:VEVENT
DTSTART;VALUE=DATE:20230713
DTEND;VALUE=DATE:20230715
DTSTAMP:20260422T203142
CREATED:20230623T151232Z
LAST-MODIFIED:20230623T151232Z
UID:4685-1689206400-1689379199@www.montessoricartagena.edu.co
SUMMARY:INGRESO DOCENTES TRABAJO PEDAGÓGICO
DESCRIPTION:
URL:https://www.montessoricartagena.edu.co/evento/ingreso-docentes-trabajo-pedagogico/
END:VEVENT
BEGIN:VEVENT
DTSTART;VALUE=DATE:20230717
DTEND;VALUE=DATE:20230718
DTSTAMP:20260422T203142
CREATED:20210608T135824Z
LAST-MODIFIED:20230623T150055Z
UID:2588-1689552000-1689638399@www.montessoricartagena.edu.co
SUMMARY:Regreso de Vacaciones
DESCRIPTION:
URL:https://www.montessoricartagena.edu.co/evento/regreso-de-vacaciones/
END:VEVENT
BEGIN:VEVENT
DTSTART;VALUE=DATE:20230720
DTEND;VALUE=DATE:20230721
DTSTAMP:20260422T203142
CREATED:20220718T132456Z
LAST-MODIFIED:20230623T150139Z
UID:3672-1689811200-1689897599@www.montessoricartagena.edu.co
SUMMARY:Independencia de Colombia
DESCRIPTION:
URL:https://www.montessoricartagena.edu.co/evento/independencia-de-colombia/
END:VEVENT
BEGIN:VEVENT
DTSTART;VALUE=DATE:20230724
DTEND;VALUE=DATE:20230726
DTSTAMP:20260422T203142
CREATED:20220718T132742Z
LAST-MODIFIED:20230718T141807Z
UID:3676-1690156800-1690329599@www.montessoricartagena.edu.co
SUMMARY:Auditoría Externa
DESCRIPTION:
URL:https://www.montessoricartagena.edu.co/evento/auditoria-externa-2/
END:VEVENT
BEGIN:VEVENT
DTSTART;VALUE=DATE:20230726
DTEND;VALUE=DATE:20230803
DTSTAMP:20260422T203142
CREATED:20220210T142613Z
LAST-MODIFIED:20230721T170915Z
UID:3367-1690329600-1691020799@www.montessoricartagena.edu.co
SUMMARY:Coffee Time
DESCRIPTION:  \n  \n \n  \n 
URL:https://www.montessoricartagena.edu.co/evento/coffee-time-preescolar/
END:VEVENT
BEGIN:VEVENT
DTSTART;VALUE=DATE:20230828
DTEND;VALUE=DATE:20230831
DTSTAMP:20260422T203142
CREATED:20220811T124140Z
LAST-MODIFIED:20230623T151344Z
UID:3734-1693180800-1693439999@www.montessoricartagena.edu.co
SUMMARY:Semana Cultural 2023
DESCRIPTION:
URL:https://www.montessoricartagena.edu.co/evento/semana-cultural-2022/
END:VEVENT
BEGIN:VEVENT
DTSTART;VALUE=DATE:20230831
DTEND;VALUE=DATE:20230901
DTSTAMP:20260422T203142
CREATED:20220718T133208Z
LAST-MODIFIED:20230623T150501Z
UID:3678-1693440000-1693526399@www.montessoricartagena.edu.co
SUMMARY:Natalicio de María Montessori
DESCRIPTION:
URL:https://www.montessoricartagena.edu.co/evento/natalicio-de-maria-montessori-2/
END:VEVENT
BEGIN:VEVENT
DTSTART;VALUE=DATE:20230831
DTEND;VALUE=DATE:20230901
DTSTAMP:20260422T203142
CREATED:20220718T133238Z
LAST-MODIFIED:20230623T151006Z
UID:3681-1693440000-1693526399@www.montessoricartagena.edu.co
SUMMARY:Día del Estudiante Montessori
DESCRIPTION:
URL:https://www.montessoricartagena.edu.co/evento/dia-del-estudiante-montessori/
END:VEVENT
BEGIN:VEVENT
DTSTART;VALUE=DATE:20230901
DTEND;VALUE=DATE:20230902
DTSTAMP:20260422T203142
CREATED:20211105T161323Z
LAST-MODIFIED:20230824T142542Z
UID:3047-1693526400-1693612799@www.montessoricartagena.edu.co
SUMMARY:Expoartes 2023
DESCRIPTION:
URL:https://www.montessoricartagena.edu.co/evento/vacunarte-expoartes-2021/
END:VEVENT
BEGIN:VEVENT
DTSTART;VALUE=DATE:20230914
DTEND;VALUE=DATE:20230915
DTSTAMP:20260422T203142
CREATED:20211029T193138Z
LAST-MODIFIED:20230907T145649Z
UID:2979-1694649600-1694735999@www.montessoricartagena.edu.co
SUMMARY:CMC Open House
DESCRIPTION:
URL:https://www.montessoricartagena.edu.co/evento/cmc-open-house-preescolar/
END:VEVENT
BEGIN:VEVENT
DTSTART;VALUE=DATE:20230915
DTEND;VALUE=DATE:20230918
DTSTAMP:20260422T203142
CREATED:20211117T123245Z
LAST-MODIFIED:20230914T165935Z
UID:3060-1694736000-1694995199@www.montessoricartagena.edu.co
SUMMARY:CMC- MUN
DESCRIPTION: 
URL:https://www.montessoricartagena.edu.co/evento/cmc-mun/
END:VEVENT
BEGIN:VEVENT
DTSTART;VALUE=DATE:20230918
DTEND;VALUE=DATE:20230920
DTSTAMP:20260422T203142
CREATED:20220907T153616Z
LAST-MODIFIED:20230915T170522Z
UID:3752-1694995200-1695167999@www.montessoricartagena.edu.co
SUMMARY:Izada de  Bandera - Amor y Amistad
DESCRIPTION:
URL:https://www.montessoricartagena.edu.co/evento/dia-internacional-de-la-paz-2/
END:VEVENT
BEGIN:VEVENT
DTSTART;VALUE=DATE:20230920
DTEND;VALUE=DATE:20230921
DTSTAMP:20260422T203142
CREATED:20210907T143217Z
LAST-MODIFIED:20230824T153508Z
UID:2884-1695168000-1695254399@www.montessoricartagena.edu.co
SUMMARY:Francophonie "fête de la musique"
DESCRIPTION:  \n 
URL:https://www.montessoricartagena.edu.co/evento/fete-de-la-francophonie/
END:VEVENT
BEGIN:VEVENT
DTSTART;TZID=America/Bogota:20230920T080000
DTEND;TZID=America/Bogota:20230920T170000
DTSTAMP:20260422T203142
CREATED:20230918T144418Z
LAST-MODIFIED:20230918T151921Z
UID:4935-1695196800-1695229200@www.montessoricartagena.edu.co
SUMMARY:Día de los abuelos - Preescolar
DESCRIPTION:
URL:https://www.montessoricartagena.edu.co/evento/dia-de-los-abuelos-preescolar/
END:VEVENT
BEGIN:VEVENT
DTSTART;VALUE=DATE:20231012
DTEND;VALUE=DATE:20231013
DTSTAMP:20260422T203142
CREATED:20220920T144012Z
LAST-MODIFIED:20231009T143146Z
UID:3829-1697068800-1697155199@www.montessoricartagena.edu.co
SUMMARY:Día de la Diversidad Cultural
DESCRIPTION:
URL:https://www.montessoricartagena.edu.co/evento/dia-de-la-diversidad-cultural/
END:VEVENT
BEGIN:VEVENT
DTSTART;VALUE=DATE:20231017
DTEND;VALUE=DATE:20231018
DTSTAMP:20260422T203142
CREATED:20231009T142915Z
LAST-MODIFIED:20231025T231616Z
UID:5077-1697500800-1697587199@www.montessoricartagena.edu.co
SUMMARY:Regreso a clases
DESCRIPTION:
URL:https://www.montessoricartagena.edu.co/evento/regreso-a-clases-3/
CATEGORIES:Evento
END:VEVENT
END:VCALENDAR