BEGIN:VCALENDAR
VERSION:2.0
PRODID:-//Colegio Montessori Cartagena - ECPv6.2.4//NONSGML v1.0//EN
CALSCALE:GREGORIAN
METHOD:PUBLISH
X-WR-CALNAME:Colegio Montessori Cartagena
X-ORIGINAL-URL:https://www.montessoricartagena.edu.co
X-WR-CALDESC:Eventos para Colegio Montessori Cartagena
REFRESH-INTERVAL;VALUE=DURATION:PT1H
X-Robots-Tag:noindex
X-PUBLISHED-TTL:PT1H
BEGIN:VTIMEZONE
TZID:America/Bogota
BEGIN:STANDARD
TZOFFSETFROM:-0500
TZOFFSETTO:-0500
TZNAME:-05
DTSTART:20220101T000000
END:STANDARD
END:VTIMEZONE
BEGIN:VEVENT
DTSTART;VALUE=DATE:20220111
DTEND;VALUE=DATE:20220112
DTSTAMP:20260424T212351
CREATED:20211227T172812Z
LAST-MODIFIED:20211228T155213Z
UID:3256-1641859200-1641945599@www.montessoricartagena.edu.co
SUMMARY:Vacacional Matemáticas e Inglés
DESCRIPTION:
URL:https://www.montessoricartagena.edu.co/evento/vacacional-matematicas-e-ingles/
END:VEVENT
BEGIN:VEVENT
DTSTART;VALUE=DATE:20220112
DTEND;VALUE=DATE:20220113
DTSTAMP:20260424T212351
CREATED:20211220T133730Z
LAST-MODIFIED:20220111T180406Z
UID:3239-1641945600-1642031999@www.montessoricartagena.edu.co
SUMMARY:Regreso de Vacaciones (administrativos)
DESCRIPTION:
URL:https://www.montessoricartagena.edu.co/evento/regreso-de-vacaciones-2/
END:VEVENT
BEGIN:VEVENT
DTSTART;VALUE=DATE:20220120
DTEND;VALUE=DATE:20220121
DTSTAMP:20260424T212351
CREATED:20220114T134651Z
LAST-MODIFIED:20220114T134651Z
UID:3263-1642636800-1642723199@www.montessoricartagena.edu.co
SUMMARY:Reuniones Padres de Familia Preescolar
DESCRIPTION:REUNIONES DE PADRES DE FAMILIA CASA DE NIÑOS  \nPRESENCIAL  \n\nFecha: 20 Enero 2022\n\n7:30 A.M – 9:00 A.M – Primer año y Segundo año\n10:00 A.M – 11:30 A.M – Tercer año\n\nREUNIONES DE PADRES DE FAMILIA COMUNIDAD INFANTIL  \nPRESENCIAL \n\n\nComunidad Infantil 1\nFecha: 20 de enero de 2022\nHora: 10:00 a.m – 11:00 a.m\n\n\nComunidad Infantil 2\nFecha: 21 de enero de 2022\nHora: 08:00 a.m – 09:30 a.m
URL:https://www.montessoricartagena.edu.co/evento/reuniones-padres-de-familia-preescolar/
END:VEVENT
BEGIN:VEVENT
DTSTART;VALUE=DATE:20220125
DTEND;VALUE=DATE:20220126
DTSTAMP:20260424T212351
CREATED:20211220T133807Z
LAST-MODIFIED:20220114T134336Z
UID:3241-1643068800-1643155199@www.montessoricartagena.edu.co
SUMMARY:Ingreso estudiantes Preescolar 2022
DESCRIPTION:  \n 
URL:https://www.montessoricartagena.edu.co/evento/ingreso-estudiantes-preescolar-2022/
END:VEVENT
BEGIN:VEVENT
DTSTART;VALUE=DATE:20220131
DTEND;VALUE=DATE:20220201
DTSTAMP:20260424T212351
CREATED:20211220T134246Z
LAST-MODIFIED:20220126T170913Z
UID:3243-1643587200-1643673599@www.montessoricartagena.edu.co
SUMMARY:Ingreso estudiantes de Bachillerato
DESCRIPTION:
URL:https://www.montessoricartagena.edu.co/evento/ingreso-estudiantes-primaria-y-bachillerato/
END:VEVENT
END:VCALENDAR