BEGIN:VCALENDAR
VERSION:2.0
PRODID:-//Colegio Montessori Cartagena - ECPv6.2.4//NONSGML v1.0//EN
CALSCALE:GREGORIAN
METHOD:PUBLISH
X-WR-CALNAME:Colegio Montessori Cartagena
X-ORIGINAL-URL:https://www.montessoricartagena.edu.co
X-WR-CALDESC:Eventos para Colegio Montessori Cartagena
REFRESH-INTERVAL;VALUE=DURATION:PT1H
X-Robots-Tag:noindex
X-PUBLISHED-TTL:PT1H
BEGIN:VTIMEZONE
TZID:America/Bogota
BEGIN:STANDARD
TZOFFSETFROM:-0500
TZOFFSETTO:-0500
TZNAME:-05
DTSTART:20220101T000000
END:STANDARD
END:VTIMEZONE
BEGIN:VEVENT
DTSTART;VALUE=DATE:20220407
DTEND;VALUE=DATE:20220408
DTSTAMP:20260424T052125
CREATED:20220203T160246Z
LAST-MODIFIED:20220203T160302Z
UID:3332-1649289600-1649375999@www.montessoricartagena.edu.co
SUMMARY:Día mundial de la salud
DESCRIPTION:
URL:https://www.montessoricartagena.edu.co/evento/dia-mundial-de-la-salud/
END:VEVENT
BEGIN:VEVENT
DTSTART;VALUE=DATE:20220417
DTEND;VALUE=DATE:20220418
DTSTAMP:20260424T052125
CREATED:20220203T162452Z
LAST-MODIFIED:20220203T162453Z
UID:3340-1650153600-1650239999@www.montessoricartagena.edu.co
SUMMARY:Easter
DESCRIPTION:
URL:https://www.montessoricartagena.edu.co/evento/easter/
END:VEVENT
BEGIN:VEVENT
DTSTART;VALUE=DATE:20220421
DTEND;VALUE=DATE:20220422
DTSTAMP:20260424T052125
CREATED:20220407T192043Z
LAST-MODIFIED:20220407T192043Z
UID:3523-1650499200-1650585599@www.montessoricartagena.edu.co
SUMMARY:Conversatorio: Cartagena\, su bahía y cuerpos de agua\, una oportunidad para construir una comunidad consciente y participativa
DESCRIPTION: 
URL:https://www.montessoricartagena.edu.co/evento/conversatorio-cartagena-su-bahia-y-cuerpos-de-agua-una-oportunidad-para-construir-una-comunidad-consciente-y-participativa/
END:VEVENT
BEGIN:VEVENT
DTSTART;VALUE=DATE:20220422
DTEND;VALUE=DATE:20220423
DTSTAMP:20260424T052125
CREATED:20220203T162032Z
LAST-MODIFIED:20220203T162032Z
UID:3334-1650585600-1650671999@www.montessoricartagena.edu.co
SUMMARY:Día internacional de la Madre Tierra
DESCRIPTION:
URL:https://www.montessoricartagena.edu.co/evento/dia-internacional-de-la-madre-tierra/
END:VEVENT
BEGIN:VEVENT
DTSTART;VALUE=DATE:20220423
DTEND;VALUE=DATE:20220424
DTSTAMP:20260424T052125
CREATED:20220328T134738Z
LAST-MODIFIED:20220328T134738Z
UID:3500-1650672000-1650758399@www.montessoricartagena.edu.co
SUMMARY:Día del Idioma
DESCRIPTION:
URL:https://www.montessoricartagena.edu.co/evento/dia-del-idioma/
END:VEVENT
BEGIN:VEVENT
DTSTART;VALUE=DATE:20220428
DTEND;VALUE=DATE:20220429
DTSTAMP:20260424T052125
CREATED:20220203T162101Z
LAST-MODIFIED:20220203T162101Z
UID:3336-1651104000-1651190399@www.montessoricartagena.edu.co
SUMMARY:Día mundial de la Seguridad y Salud en el Trabajo
DESCRIPTION:
URL:https://www.montessoricartagena.edu.co/evento/dia-mundial-de-la-seguridad-y-salud-en-el-trabajo/
END:VEVENT
END:VCALENDAR