BEGIN:VCALENDAR
VERSION:2.0
PRODID:-//Colegio Montessori Cartagena - ECPv6.2.4//NONSGML v1.0//EN
CALSCALE:GREGORIAN
METHOD:PUBLISH
X-ORIGINAL-URL:https://www.montessoricartagena.edu.co
X-WR-CALDESC:Eventos para Colegio Montessori Cartagena
REFRESH-INTERVAL;VALUE=DURATION:PT1H
X-Robots-Tag:noindex
X-PUBLISHED-TTL:PT1H
BEGIN:VTIMEZONE
TZID:America/Bogota
BEGIN:STANDARD
TZOFFSETFROM:-0500
TZOFFSETTO:-0500
TZNAME:-05
DTSTART:20220101T000000
END:STANDARD
END:VTIMEZONE
BEGIN:VEVENT
DTSTART;VALUE=DATE:20220718
DTEND;VALUE=DATE:20220719
DTSTAMP:20260423T235855
CREATED:20220622T154313Z
LAST-MODIFIED:20220622T154313Z
UID:3664-1658102400-1658188799@www.montessoricartagena.edu.co
SUMMARY:Regreso a clases
DESCRIPTION:
URL:https://www.montessoricartagena.edu.co/evento/regreso-a-clases/
END:VEVENT
BEGIN:VEVENT
DTSTART;VALUE=DATE:20220722
DTEND;VALUE=DATE:20220724
DTSTAMP:20260423T235855
CREATED:20220719T170607Z
LAST-MODIFIED:20220719T175401Z
UID:3696-1658448000-1658620799@www.montessoricartagena.edu.co
SUMMARY:Censo Neotropical de Aves Acuáticas
DESCRIPTION: 
URL:https://www.montessoricartagena.edu.co/evento/censo-neotropical-de-aves-acuaticas/
END:VEVENT
END:VCALENDAR