BEGIN:VCALENDAR
VERSION:2.0
PRODID:-//Colegio Montessori Cartagena - ECPv6.2.4//NONSGML v1.0//EN
CALSCALE:GREGORIAN
METHOD:PUBLISH
X-ORIGINAL-URL:https://www.montessoricartagena.edu.co
X-WR-CALDESC:Eventos para Colegio Montessori Cartagena
REFRESH-INTERVAL;VALUE=DURATION:PT1H
X-Robots-Tag:noindex
X-PUBLISHED-TTL:PT1H
BEGIN:VTIMEZONE
TZID:America/Bogota
BEGIN:STANDARD
TZOFFSETFROM:-0500
TZOFFSETTO:-0500
TZNAME:-05
DTSTART:20220101T000000
END:STANDARD
END:VTIMEZONE
BEGIN:VEVENT
DTSTART;VALUE=DATE:20220901
DTEND;VALUE=DATE:20220902
DTSTAMP:20260423T181919
CREATED:20220718T132706Z
LAST-MODIFIED:20220719T175431Z
UID:3674-1661990400-1662076799@www.montessoricartagena.edu.co
SUMMARY:Conversatorio: Estrategias para la convivencia con los adolescentes
DESCRIPTION:
URL:https://www.montessoricartagena.edu.co/evento/conversatorio-estrategias-para-la-convivencia-con-los-adolescentes/
END:VEVENT
BEGIN:VEVENT
DTSTART;VALUE=DATE:20220909
DTEND;VALUE=DATE:20220919
DTSTAMP:20260423T181919
CREATED:20220908T150817Z
LAST-MODIFIED:20220908T171906Z
UID:3757-1662681600-1663545599@www.montessoricartagena.edu.co
SUMMARY:Montessori CUP - High School
DESCRIPTION:
URL:https://www.montessoricartagena.edu.co/evento/montessori-cup-high-school/
END:VEVENT
BEGIN:VEVENT
DTSTART;VALUE=DATE:20220919
DTEND;VALUE=DATE:20220928
DTSTAMP:20260423T181919
CREATED:20220919T164856Z
LAST-MODIFIED:20220919T164856Z
UID:3801-1663545600-1664323199@www.montessoricartagena.edu.co
SUMMARY:Aplicación de simulacros Pruebas Saber (Básica primaria y secundaria)
DESCRIPTION:
URL:https://www.montessoricartagena.edu.co/evento/aplicacion-de-simulacros-pruebas-saber-basica-primaria-y-secundaria/
END:VEVENT
BEGIN:VEVENT
DTSTART;VALUE=DATE:20220921
DTEND;VALUE=DATE:20220922
DTSTAMP:20260423T181919
CREATED:20220907T163515Z
LAST-MODIFIED:20220907T163839Z
UID:3755-1663718400-1663804799@www.montessoricartagena.edu.co
SUMMARY:Día Internacional de la Paz
DESCRIPTION:
URL:https://www.montessoricartagena.edu.co/evento/dia-internacional-de-la-paz-3/
END:VEVENT
BEGIN:VEVENT
DTSTART;VALUE=DATE:20220930
DTEND;VALUE=DATE:20221001
DTSTAMP:20260423T181919
CREATED:20220920T143206Z
LAST-MODIFIED:20220920T143312Z
UID:3821-1664496000-1664582399@www.montessoricartagena.edu.co
SUMMARY:DÍA DE COMPARTIR - Preescolar
DESCRIPTION:
URL:https://www.montessoricartagena.edu.co/evento/dia-de-compartir-preescolar/
END:VEVENT
END:VCALENDAR