BEGIN:VCALENDAR
VERSION:2.0
PRODID:-//Colegio Montessori Cartagena - ECPv6.2.4//NONSGML v1.0//EN
CALSCALE:GREGORIAN
METHOD:PUBLISH
X-ORIGINAL-URL:https://www.montessoricartagena.edu.co
X-WR-CALDESC:Eventos para Colegio Montessori Cartagena
REFRESH-INTERVAL;VALUE=DURATION:PT1H
X-Robots-Tag:noindex
X-PUBLISHED-TTL:PT1H
BEGIN:VTIMEZONE
TZID:America/Bogota
BEGIN:STANDARD
TZOFFSETFROM:-0500
TZOFFSETTO:-0500
TZNAME:-05
DTSTART:20220101T000000
END:STANDARD
END:VTIMEZONE
BEGIN:VEVENT
DTSTART;VALUE=DATE:20221005
DTEND;VALUE=DATE:20221006
DTSTAMP:20260423T162620
CREATED:20220919T164932Z
LAST-MODIFIED:20220919T164932Z
UID:3803-1664928000-1665014399@www.montessoricartagena.edu.co
SUMMARY:Aplicación del examen de inglés MET
DESCRIPTION:
URL:https://www.montessoricartagena.edu.co/evento/aplicacion-del-examen-de-ingles-met/
END:VEVENT
BEGIN:VEVENT
DTSTART;VALUE=DATE:20221007
DTEND;VALUE=DATE:20221009
DTSTAMP:20260423T162620
CREATED:20220919T165031Z
LAST-MODIFIED:20220919T165356Z
UID:3805-1665100800-1665273599@www.montessoricartagena.edu.co
SUMMARY:Aplicación de la prueba internacional de Inglés IELTS
DESCRIPTION:
URL:https://www.montessoricartagena.edu.co/evento/aplicacion-de-la-prueba-internacional-de-ingles-ielts/
END:VEVENT
BEGIN:VEVENT
DTSTART;VALUE=DATE:20221010
DTEND;VALUE=DATE:20221015
DTSTAMP:20260423T162620
CREATED:20220919T165142Z
LAST-MODIFIED:20220919T165142Z
UID:3807-1665360000-1665791999@www.montessoricartagena.edu.co
SUMMARY:SEMANA RECESO ESCOLAR
DESCRIPTION:
URL:https://www.montessoricartagena.edu.co/evento/semana-receso-escolar/
END:VEVENT
BEGIN:VEVENT
DTSTART;VALUE=DATE:20221013
DTEND;VALUE=DATE:20221015
DTSTAMP:20260423T162620
CREATED:20220919T165301Z
LAST-MODIFIED:20220919T165310Z
UID:3809-1665619200-1665791999@www.montessoricartagena.edu.co
SUMMARY:Congreso Montessori - FEMCO
DESCRIPTION: 
URL:https://www.montessoricartagena.edu.co/evento/congreso-montessori/
END:VEVENT
BEGIN:VEVENT
DTSTART;VALUE=DATE:20221018
DTEND;VALUE=DATE:20221019
DTSTAMP:20260423T162620
CREATED:20221005T185001Z
LAST-MODIFIED:20221005T185001Z
UID:3887-1666051200-1666137599@www.montessoricartagena.edu.co
SUMMARY:Regreso a clases
DESCRIPTION:
URL:https://www.montessoricartagena.edu.co/evento/regreso-a-clases-2/
END:VEVENT
BEGIN:VEVENT
DTSTART;VALUE=DATE:20221031
DTEND;VALUE=DATE:20221101
DTSTAMP:20260423T162620
CREATED:20220920T143355Z
LAST-MODIFIED:20220920T143755Z
UID:3823-1667174400-1667260799@www.montessoricartagena.edu.co
SUMMARY:ÁNGELES SOMOS - Preescolar
DESCRIPTION:
URL:https://www.montessoricartagena.edu.co/evento/angeles-somos-preescolar/
END:VEVENT
END:VCALENDAR