BEGIN:VCALENDAR
VERSION:2.0
PRODID:-//Colegio Montessori Cartagena - ECPv6.2.4//NONSGML v1.0//EN
CALSCALE:GREGORIAN
METHOD:PUBLISH
X-ORIGINAL-URL:https://www.montessoricartagena.edu.co
X-WR-CALDESC:Eventos para Colegio Montessori Cartagena
REFRESH-INTERVAL;VALUE=DURATION:PT1H
X-Robots-Tag:noindex
X-PUBLISHED-TTL:PT1H
BEGIN:VTIMEZONE
TZID:America/Bogota
BEGIN:STANDARD
TZOFFSETFROM:-0500
TZOFFSETTO:-0500
TZNAME:-05
DTSTART:20220101T000000
END:STANDARD
END:VTIMEZONE
BEGIN:VEVENT
DTSTART;VALUE=DATE:20221104
DTEND;VALUE=DATE:20221105
DTSTAMP:20260423T125338
CREATED:20220920T143906Z
LAST-MODIFIED:20221005T190159Z
UID:3827-1667520000-1667606399@www.montessoricartagena.edu.co
SUMMARY:Cabildo Montessori
DESCRIPTION:
URL:https://www.montessoricartagena.edu.co/evento/cabildo-montessori-2/
END:VEVENT
BEGIN:VEVENT
DTSTART;VALUE=DATE:20221108
DTEND;VALUE=DATE:20221112
DTSTAMP:20260423T125338
CREATED:20220920T142548Z
LAST-MODIFIED:20220920T144132Z
UID:3815-1667865600-1668211199@www.montessoricartagena.edu.co
SUMMARY:FIESTA DE NOVIEMBRE - Receso Escolar
DESCRIPTION:
URL:https://www.montessoricartagena.edu.co/evento/fiesta-de-noviembre/
END:VEVENT
BEGIN:VEVENT
DTSTART;VALUE=DATE:20221115
DTEND;VALUE=DATE:20221122
DTSTAMP:20260423T125338
CREATED:20220920T142905Z
LAST-MODIFIED:20220920T142905Z
UID:3817-1668470400-1669075199@www.montessoricartagena.edu.co
SUMMARY:Aplicación del examen de francés DELF A1 para 9°
DESCRIPTION:entre el  15 y 21 de noviembre
URL:https://www.montessoricartagena.edu.co/evento/aplicacion-del-examen-de-frances-delf-a1-para-9/
END:VEVENT
BEGIN:VEVENT
DTSTART;VALUE=DATE:20221117
DTEND;VALUE=DATE:20221118
DTSTAMP:20260423T125338
CREATED:20221101T152308Z
LAST-MODIFIED:20221101T152308Z
UID:3961-1668643200-1668729599@www.montessoricartagena.edu.co
SUMMARY:Entrega de símbolos (Horario C)
DESCRIPTION:
URL:https://www.montessoricartagena.edu.co/evento/entrega-de-simbolos-horario-c/
END:VEVENT
BEGIN:VEVENT
DTSTART;VALUE=DATE:20221117
DTEND;VALUE=DATE:20221119
DTSTAMP:20260423T125338
CREATED:20221101T152357Z
LAST-MODIFIED:20221101T152357Z
UID:3963-1668643200-1668815999@www.montessoricartagena.edu.co
SUMMARY:Entrega de actividades de recuperación extraordinaria del 3er. periodo
DESCRIPTION:17 y 18 de noviembre
URL:https://www.montessoricartagena.edu.co/evento/entrega-de-actividades-de-recuperacion-extraordinaria-del-3er-periodo/
END:VEVENT
BEGIN:VEVENT
DTSTART;VALUE=DATE:20221118
DTEND;VALUE=DATE:20221119
DTSTAMP:20260423T125338
CREATED:20220920T142935Z
LAST-MODIFIED:20220920T142935Z
UID:3819-1668729600-1668815999@www.montessoricartagena.edu.co
SUMMARY:Acción de Gracias
DESCRIPTION:
URL:https://www.montessoricartagena.edu.co/evento/accion-de-gracias/
END:VEVENT
BEGIN:VEVENT
DTSTART;VALUE=DATE:20221118
DTEND;VALUE=DATE:20221119
DTSTAMP:20260423T125338
CREATED:20221003T133228Z
LAST-MODIFIED:20221003T133326Z
UID:3874-1668729600-1668815999@www.montessoricartagena.edu.co
SUMMARY:Salida de vacaciones - estudiantes
DESCRIPTION:
URL:https://www.montessoricartagena.edu.co/evento/salida-de-vacaciones/
END:VEVENT
BEGIN:VEVENT
DTSTART;VALUE=DATE:20221122
DTEND;VALUE=DATE:20221124
DTSTAMP:20260423T125338
CREATED:20221101T152439Z
LAST-MODIFIED:20221101T152440Z
UID:3965-1669075200-1669247999@www.montessoricartagena.edu.co
SUMMARY:Recepción actividades de recuperación extraordinarias 3er. Periodo
DESCRIPTION:22 y 23 de noviembre
URL:https://www.montessoricartagena.edu.co/evento/recepcion-actividades-de-recuperacion-extraordinarias-3er-periodo/
END:VEVENT
BEGIN:VEVENT
DTSTART;VALUE=DATE:20221125
DTEND;VALUE=DATE:20221126
DTSTAMP:20260423T125338
CREATED:20221005T185411Z
LAST-MODIFIED:20221005T190139Z
UID:3889-1669334400-1669420799@www.montessoricartagena.edu.co
SUMMARY:Clausura Preescolar y Primaria
DESCRIPTION:
URL:https://www.montessoricartagena.edu.co/evento/clausura-preescolar-y-primaria/
END:VEVENT
BEGIN:VEVENT
DTSTART;VALUE=DATE:20221128
DTEND;VALUE=DATE:20221129
DTSTAMP:20260423T125338
CREATED:20221101T152555Z
LAST-MODIFIED:20221101T152555Z
UID:3967-1669593600-1669679999@www.montessoricartagena.edu.co
SUMMARY:Comisiones de Evaluación 3er. Periodo
DESCRIPTION:26 y 28 de noviembre
URL:https://www.montessoricartagena.edu.co/evento/comisiones-de-evaluacion-3er-periodo/
END:VEVENT
BEGIN:VEVENT
DTSTART;VALUE=DATE:20221129
DTEND;VALUE=DATE:20221130
DTSTAMP:20260423T125338
CREATED:20221101T152621Z
LAST-MODIFIED:20221101T152621Z
UID:3969-1669680000-1669766399@www.montessoricartagena.edu.co
SUMMARY:Escuela abierta (entrega de informes)
DESCRIPTION:
URL:https://www.montessoricartagena.edu.co/evento/escuela-abierta-entrega-de-informes/
END:VEVENT
END:VCALENDAR