BEGIN:VCALENDAR
VERSION:2.0
PRODID:-//Colegio Montessori Cartagena - ECPv6.2.4//NONSGML v1.0//EN
CALSCALE:GREGORIAN
METHOD:PUBLISH
X-WR-CALNAME:Colegio Montessori Cartagena
X-ORIGINAL-URL:https://www.montessoricartagena.edu.co
X-WR-CALDESC:Eventos para Colegio Montessori Cartagena
REFRESH-INTERVAL;VALUE=DURATION:PT1H
X-Robots-Tag:noindex
X-PUBLISHED-TTL:PT1H
BEGIN:VTIMEZONE
TZID:America/Bogota
BEGIN:STANDARD
TZOFFSETFROM:-0500
TZOFFSETTO:-0500
TZNAME:-05
DTSTART:20230101T000000
END:STANDARD
END:VTIMEZONE
BEGIN:VEVENT
DTSTART;VALUE=DATE:20230211
DTEND;VALUE=DATE:20230212
DTSTAMP:20260423T054044
CREATED:20230206T180751Z
LAST-MODIFIED:20230206T180920Z
UID:4360-1676073600-1676159999@www.montessoricartagena.edu.co
SUMMARY:Día Internacional de la Mujer y la Niña en la Ciencia
DESCRIPTION:
URL:https://www.montessoricartagena.edu.co/evento/dia-internacional-de-la-mujer-y-la-nina-en-la-ciencia/
END:VEVENT
BEGIN:VEVENT
DTSTART;VALUE=DATE:20230213
DTEND;VALUE=DATE:20230214
DTSTAMP:20260423T054044
CREATED:20230206T174244Z
LAST-MODIFIED:20230206T175448Z
UID:4354-1676246400-1676332799@www.montessoricartagena.edu.co
SUMMARY:Inicio de escuelas extracurriculares - Kaleidoscopio
DESCRIPTION:https://www.montessoricartagena.edu.co/academico/kaleidoscopio/
URL:https://www.montessoricartagena.edu.co/evento/inicio-de-escuelas-extracurriculares-kaleidoscopio/
END:VEVENT
BEGIN:VEVENT
DTSTART;VALUE=DATE:20230213
DTEND;VALUE=DATE:20230217
DTSTAMP:20260423T054044
CREATED:20230126T164525Z
LAST-MODIFIED:20230209T154130Z
UID:4144-1676246400-1676591999@www.montessoricartagena.edu.co
SUMMARY:Coffee Time - Casa de Niños
DESCRIPTION:
URL:https://www.montessoricartagena.edu.co/evento/coffee-time-casa-de-ninos/
END:VEVENT
BEGIN:VEVENT
DTSTART;VALUE=DATE:20230214
DTEND;VALUE=DATE:20230215
DTSTAMP:20260423T054044
CREATED:20230126T164145Z
LAST-MODIFIED:20230126T164145Z
UID:4142-1676332800-1676419199@www.montessoricartagena.edu.co
SUMMARY:Valentine's Day
DESCRIPTION:
URL:https://www.montessoricartagena.edu.co/evento/valentines-day/
END:VEVENT
BEGIN:VEVENT
DTSTART;VALUE=DATE:20230215
DTEND;VALUE=DATE:20230216
DTSTAMP:20260423T054044
CREATED:20230206T173934Z
LAST-MODIFIED:20230209T154112Z
UID:4351-1676419200-1676505599@www.montessoricartagena.edu.co
SUMMARY:Coffee Time - Bachillerato
DESCRIPTION:
URL:https://www.montessoricartagena.edu.co/evento/coffee-time-bachillerato/
END:VEVENT
BEGIN:VEVENT
DTSTART;VALUE=DATE:20230222
DTEND;VALUE=DATE:20230223
DTSTAMP:20260423T054044
CREATED:20230207T131804Z
LAST-MODIFIED:20230207T131805Z
UID:4367-1677024000-1677110399@www.montessoricartagena.edu.co
SUMMARY:Escuela Abierta
DESCRIPTION:
URL:https://www.montessoricartagena.edu.co/evento/escuela-abierta/
END:VEVENT
END:VCALENDAR