BEGIN:VCALENDAR
VERSION:2.0
PRODID:-//Colegio Montessori Cartagena - ECPv6.2.4//NONSGML v1.0//EN
CALSCALE:GREGORIAN
METHOD:PUBLISH
X-WR-CALNAME:Colegio Montessori Cartagena
X-ORIGINAL-URL:https://www.montessoricartagena.edu.co
X-WR-CALDESC:Eventos para Colegio Montessori Cartagena
REFRESH-INTERVAL;VALUE=DURATION:PT1H
X-Robots-Tag:noindex
X-PUBLISHED-TTL:PT1H
BEGIN:VTIMEZONE
TZID:America/Bogota
BEGIN:STANDARD
TZOFFSETFROM:-0500
TZOFFSETTO:-0500
TZNAME:-05
DTSTART:20230101T000000
END:STANDARD
END:VTIMEZONE
BEGIN:VEVENT
DTSTART;VALUE=DATE:20230301
DTEND;VALUE=DATE:20230302
DTSTAMP:20260423T021316
CREATED:20230209T154031Z
LAST-MODIFIED:20230222T143844Z
UID:4389-1677628800-1677715199@www.montessoricartagena.edu.co
SUMMARY:Coffee Time - Primaria
DESCRIPTION:
URL:https://www.montessoricartagena.edu.co/evento/coffee-time-primaria/
END:VEVENT
BEGIN:VEVENT
DTSTART;VALUE=DATE:20230301
DTEND;VALUE=DATE:20230304
DTSTAMP:20260423T021316
CREATED:20230206T181221Z
LAST-MODIFIED:20230206T181222Z
UID:4362-1677628800-1677887999@www.montessoricartagena.edu.co
SUMMARY:TALLER DE LECTO-ESCRITURA - Casa de Niños
DESCRIPTION:
URL:https://www.montessoricartagena.edu.co/evento/taller-de-lecto-escritura-casa-de-ninos/
END:VEVENT
BEGIN:VEVENT
DTSTART;VALUE=DATE:20230308
DTEND;VALUE=DATE:20230309
DTSTAMP:20260423T021316
CREATED:20220203T154415Z
LAST-MODIFIED:20230206T175520Z
UID:3317-1678233600-1678319999@www.montessoricartagena.edu.co
SUMMARY:Día internacional de la mujer
DESCRIPTION:
URL:https://www.montessoricartagena.edu.co/evento/dia-internacional-de-la-mujer/
END:VEVENT
BEGIN:VEVENT
DTSTART;VALUE=DATE:20230310
DTEND;VALUE=DATE:20230311
DTSTAMP:20260423T021316
CREATED:20230207T132025Z
LAST-MODIFIED:20230207T132025Z
UID:4369-1678406400-1678492799@www.montessoricartagena.edu.co
SUMMARY:Montessori Cup - Middle School
DESCRIPTION:
URL:https://www.montessoricartagena.edu.co/evento/montessori-cup-middle-school/
END:VEVENT
BEGIN:VEVENT
DTSTART;VALUE=DATE:20230314
DTEND;VALUE=DATE:20230315
DTSTAMP:20260423T021316
CREATED:20220223T160318Z
LAST-MODIFIED:20230206T175607Z
UID:3402-1678752000-1678838399@www.montessoricartagena.edu.co
SUMMARY:Natalicio Ana Elvira Román
DESCRIPTION:
URL:https://www.montessoricartagena.edu.co/evento/natalicio-ana-elvira-roman/
END:VEVENT
BEGIN:VEVENT
DTSTART;VALUE=DATE:20230317
DTEND;VALUE=DATE:20230318
DTSTAMP:20260423T021316
CREATED:20220203T154636Z
LAST-MODIFIED:20230206T175711Z
UID:3322-1679011200-1679097599@www.montessoricartagena.edu.co
SUMMARY:Saint Patrick's Day
DESCRIPTION:
URL:https://www.montessoricartagena.edu.co/evento/saint-patricks-day/
END:VEVENT
BEGIN:VEVENT
DTSTART;VALUE=DATE:20230319
DTEND;VALUE=DATE:20230320
DTSTAMP:20260423T021316
CREATED:20220203T154758Z
LAST-MODIFIED:20230206T180953Z
UID:3326-1679184000-1679270399@www.montessoricartagena.edu.co
SUMMARY:Día internacional del hombre
DESCRIPTION:
URL:https://www.montessoricartagena.edu.co/evento/dia-internacional-del-hombre/
END:VEVENT
BEGIN:VEVENT
DTSTART;VALUE=DATE:20230322
DTEND;VALUE=DATE:20230323
DTSTAMP:20260423T021316
CREATED:20220203T154504Z
LAST-MODIFIED:20230206T181059Z
UID:3320-1679443200-1679529599@www.montessoricartagena.edu.co
SUMMARY:Día mundial del agua
DESCRIPTION:
URL:https://www.montessoricartagena.edu.co/evento/dia-mundial-del-agua/
END:VEVENT
BEGIN:VEVENT
DTSTART;VALUE=DATE:20230329
DTEND;VALUE=DATE:20230330
DTSTAMP:20260423T021316
CREATED:20230207T132116Z
LAST-MODIFIED:20230207T132120Z
UID:4371-1680048000-1680134399@www.montessoricartagena.edu.co
SUMMARY:Escuela Abierta
DESCRIPTION:
URL:https://www.montessoricartagena.edu.co/evento/escuela-abierta-2/
END:VEVENT
END:VCALENDAR