BEGIN:VCALENDAR
VERSION:2.0
PRODID:-//Colegio Montessori Cartagena - ECPv6.2.4//NONSGML v1.0//EN
CALSCALE:GREGORIAN
METHOD:PUBLISH
X-ORIGINAL-URL:https://www.montessoricartagena.edu.co
X-WR-CALDESC:Eventos para Colegio Montessori Cartagena
REFRESH-INTERVAL;VALUE=DURATION:PT1H
X-Robots-Tag:noindex
X-PUBLISHED-TTL:PT1H
BEGIN:VTIMEZONE
TZID:America/Bogota
BEGIN:STANDARD
TZOFFSETFROM:-0500
TZOFFSETTO:-0500
TZNAME:-05
DTSTART:20230101T000000
END:STANDARD
END:VTIMEZONE
BEGIN:VEVENT
DTSTART;VALUE=DATE:20230402
DTEND;VALUE=DATE:20230408
DTSTAMP:20260423T002305
CREATED:20230206T175958Z
LAST-MODIFIED:20230206T180340Z
UID:4356-1680393600-1680911999@www.montessoricartagena.edu.co
SUMMARY:Semana Santa
DESCRIPTION:
URL:https://www.montessoricartagena.edu.co/evento/semana-santa/
END:VEVENT
BEGIN:VEVENT
DTSTART;VALUE=DATE:20230411
DTEND;VALUE=DATE:20230412
DTSTAMP:20260423T002305
CREATED:20230206T180515Z
LAST-MODIFIED:20230410T170325Z
UID:4358-1681171200-1681257599@www.montessoricartagena.edu.co
SUMMARY:Easter Day
DESCRIPTION:
URL:https://www.montessoricartagena.edu.co/evento/easter-day/
END:VEVENT
BEGIN:VEVENT
DTSTART;VALUE=DATE:20230412
DTEND;VALUE=DATE:20230413
DTSTAMP:20260423T002305
CREATED:20220311T174253Z
LAST-MODIFIED:20230410T200052Z
UID:3463-1681257600-1681343999@www.montessoricartagena.edu.co
SUMMARY:Escuela de Familia: ¿Cómo identificar y abordar el estrés de mi hijo?
DESCRIPTION:  \n 
URL:https://www.montessoricartagena.edu.co/evento/escuela-de-familia-como-prevenir-el-bullying/
END:VEVENT
BEGIN:VEVENT
DTSTART;VALUE=DATE:20230418
DTEND;VALUE=DATE:20230421
DTSTAMP:20260423T002305
CREATED:20230206T181347Z
LAST-MODIFIED:20230206T181429Z
UID:4364-1681776000-1682035199@www.montessoricartagena.edu.co
SUMMARY:Taller de Bilingüismo - Casa de niños Primer año (Virtual)
DESCRIPTION:
URL:https://www.montessoricartagena.edu.co/evento/taller-de-bilinguismo-casa-de-ninos-primer-ano-virtual/
END:VEVENT
BEGIN:VEVENT
DTSTART;VALUE=DATE:20230426
DTEND;VALUE=DATE:20230427
DTSTAMP:20260423T002305
CREATED:20220328T134825Z
LAST-MODIFIED:20230314T143759Z
UID:3502-1682467200-1682553599@www.montessoricartagena.edu.co
SUMMARY:Día de la Secretaria
DESCRIPTION:
URL:https://www.montessoricartagena.edu.co/evento/dia-de-la-secretaria/
END:VEVENT
BEGIN:VEVENT
DTSTART;VALUE=DATE:20230428
DTEND;VALUE=DATE:20230429
DTSTAMP:20260423T002305
CREATED:20220203T162310Z
LAST-MODIFIED:20230314T144212Z
UID:3338-1682640000-1682726399@www.montessoricartagena.edu.co
SUMMARY:Día del niño - Celebración Preescolar y Primaria
DESCRIPTION:
URL:https://www.montessoricartagena.edu.co/evento/dia-del-nino/
END:VEVENT
END:VCALENDAR