BEGIN:VCALENDAR
VERSION:2.0
PRODID:-//Colegio Montessori Cartagena - ECPv6.2.4//NONSGML v1.0//EN
CALSCALE:GREGORIAN
METHOD:PUBLISH
X-WR-CALNAME:Colegio Montessori Cartagena
X-ORIGINAL-URL:https://www.montessoricartagena.edu.co
X-WR-CALDESC:Eventos para Colegio Montessori Cartagena
REFRESH-INTERVAL;VALUE=DURATION:PT1H
X-Robots-Tag:noindex
X-PUBLISHED-TTL:PT1H
BEGIN:VTIMEZONE
TZID:America/Bogota
BEGIN:STANDARD
TZOFFSETFROM:-0500
TZOFFSETTO:-0500
TZNAME:-05
DTSTART:20230101T000000
END:STANDARD
END:VTIMEZONE
BEGIN:VEVENT
DTSTART;VALUE=DATE:20230601
DTEND;VALUE=DATE:20230602
DTSTAMP:20260422T181759
CREATED:20230525T152119Z
LAST-MODIFIED:20230525T152119Z
UID:4636-1685577600-1685663999@www.montessoricartagena.edu.co
SUMMARY:¡Feliz Cumpleaños Cartagena!
DESCRIPTION:
URL:https://www.montessoricartagena.edu.co/evento/feliz-cumpleanos-cartagena/
END:VEVENT
BEGIN:VEVENT
DTSTART;VALUE=DATE:20230602
DTEND;VALUE=DATE:20230603
DTSTAMP:20260422T181759
CREATED:20230525T144517Z
LAST-MODIFIED:20230525T144727Z
UID:4632-1685664000-1685750399@www.montessoricartagena.edu.co
SUMMARY:¡Feliz Cumpleaños! CMC
DESCRIPTION:
URL:https://www.montessoricartagena.edu.co/evento/feliz-cumpleanos-cmc/
END:VEVENT
BEGIN:VEVENT
DTSTART;VALUE=DATE:20230605
DTEND;VALUE=DATE:20230606
DTSTAMP:20260422T181759
CREATED:20230525T144246Z
LAST-MODIFIED:20230525T144438Z
UID:4630-1685923200-1686009599@www.montessoricartagena.edu.co
SUMMARY:Día mundial del medio ambiente
DESCRIPTION:
URL:https://www.montessoricartagena.edu.co/evento/dia-mundial-del-medio-ambiente/
END:VEVENT
BEGIN:VEVENT
DTSTART;VALUE=DATE:20230608
DTEND;VALUE=DATE:20230609
DTSTAMP:20260422T181759
CREATED:20230531T180738Z
LAST-MODIFIED:20230531T204515Z
UID:4668-1686182400-1686268799@www.montessoricartagena.edu.co
SUMMARY:Escuela de Familia Con Eder Cuevas
DESCRIPTION:
URL:https://www.montessoricartagena.edu.co/evento/escuela-de-familia-con-eder-cuevas/
END:VEVENT
BEGIN:VEVENT
DTSTART;VALUE=DATE:20230614
DTEND;VALUE=DATE:20230615
DTSTAMP:20260422T181759
CREATED:20230525T152244Z
LAST-MODIFIED:20230525T152333Z
UID:4638-1686700800-1686787199@www.montessoricartagena.edu.co
SUMMARY:Celebración día del Padre - Primaria
DESCRIPTION:
URL:https://www.montessoricartagena.edu.co/evento/celebracion-dia-del-padre-primaria/
END:VEVENT
BEGIN:VEVENT
DTSTART;VALUE=DATE:20230615
DTEND;VALUE=DATE:20230616
DTSTAMP:20260422T181759
CREATED:20230525T144838Z
LAST-MODIFIED:20230525T152207Z
UID:4634-1686787200-1686873599@www.montessoricartagena.edu.co
SUMMARY:Celebración día del Padre - Preescolar
DESCRIPTION:
URL:https://www.montessoricartagena.edu.co/evento/celebracion-dia-del-padre-preescolar/
END:VEVENT
BEGIN:VEVENT
DTSTART;VALUE=DATE:20230615
DTEND;VALUE=DATE:20230616
DTSTAMP:20260422T181759
CREATED:20230525T153211Z
LAST-MODIFIED:20230525T153219Z
UID:4642-1686787200-1686873599@www.montessoricartagena.edu.co
SUMMARY:Salida de vacaciones Preescolar
DESCRIPTION:
URL:https://www.montessoricartagena.edu.co/evento/salida-de-vacaciones-preescolar/
END:VEVENT
BEGIN:VEVENT
DTSTART;VALUE=DATE:20230616
DTEND;VALUE=DATE:20230617
DTSTAMP:20260422T181759
CREATED:20230525T152359Z
LAST-MODIFIED:20230525T152638Z
UID:4640-1686873600-1686959999@www.montessoricartagena.edu.co
SUMMARY:Celebración día del Padre - Bachillerato
DESCRIPTION:
URL:https://www.montessoricartagena.edu.co/evento/celebracion-dia-del-padre-bachillerato/
END:VEVENT
BEGIN:VEVENT
DTSTART;VALUE=DATE:20230616
DTEND;VALUE=DATE:20230617
DTSTAMP:20260422T181759
CREATED:20230525T153317Z
LAST-MODIFIED:20230525T153844Z
UID:4644-1686873600-1686959999@www.montessoricartagena.edu.co
SUMMARY:Salida de Vacaciones (Primaria y Bachillerato)
DESCRIPTION:
URL:https://www.montessoricartagena.edu.co/evento/salida-de-vacaciones-primaria-y-bachillerato/
END:VEVENT
BEGIN:VEVENT
DTSTART;VALUE=DATE:20230620
DTEND;VALUE=DATE:20230708
DTSTAMP:20260422T181759
CREATED:20230525T144000Z
LAST-MODIFIED:20230525T144000Z
UID:4626-1687219200-1688774399@www.montessoricartagena.edu.co
SUMMARY:VacacionArte CMC - Preescolar
DESCRIPTION: 
URL:https://www.montessoricartagena.edu.co/evento/vacacionarte-cmc-preescolar/
END:VEVENT
END:VCALENDAR